BEGIN:VCALENDAR
VERSION:2.0
PRODID:icalendar-ruby
CALSCALE:GREGORIAN
METHOD:PUBLISH
BEGIN:VEVENT
DTSTAMP:20260420T142206Z
UID:7-245885@amcog.org
DTSTART:20260421T133000Z
DTEND:20260421T143000Z
CLASS:PUBLIC
CREATED:20260420T083016
DESCRIPTION:The sanctuary is open for prayer every Tuesday morning from 9:3
 0 to 10:30 a.m. Join us as we pray for our families\, church\, community\,
  and nation.
LAST-MODIFIED:20260420T083016
LOCATION:2615 E Lamar Alexander Parkway\, Maryville TN 37804
SUMMARY:Tuesday Morning Prayer
URL;VALUE=URI:https://www.amcog.org/events/tuesday-morning-prayer/2026-04-2
 1
ATTACH;FILENAME=image.jpg;FMTTYPE=image/jpeg:https://dq5pwpg1q8ru0.cloudfro
 nt.net/2025/10/22/16/52/14/6f6ceec4-8400-480c-8156-14b5bfbb4bb3/image.jpg
END:VEVENT
END:VCALENDAR
